33.8666666666667
0.000000000000000
0.000000000000000
-33.8666666666667
570513.506885011
2204869.91123319
