2.54000000000001
0.000000000000000
0.000000000000000
-2.53999999999999
769519.008704059
2061499.44220932
