0.846666666666653
0.000000000000000
0.000000000000000
-0.84666666666664
779302.381057251
2057455.40696123
