1.26999999999998
0.000000000000000
0.000000000000000
-1.26999999999996
782610.499782427
2057453.04084972
