1.26999999999998
0.000000000000000
0.000000000000000
-1.26999999999996
773410.704048615
2053050.7442987
