0.846666666666653
0.000000000000000
0.000000000000000
-0.84666666666664
776771.784160141
2051992.3001229
