0.423333333333326
0.000000000000000
0.000000000000000
-0.42333333333332
786924.100978772
2052022.35002687
