0.423333333333334
0.000000000000000
0.000000000000000
-0.423333333333331
779302.378557251
2057455.40946123
