1.26999910844888
0.000000000000000
0.000000000000000
-1.26999922765209
782610.498535058
2057453.04244529
