1.27
0.000000000000000
0.000000000000000
-1.26999999999999
782272.90328952
2054777.37407836
