0.846666666666668
0.000000000000000
0.000000000000000
-0.846666666666662
783555.157246631
2052010.91077206
