4.23333333333338
0.000000000000000
0.000000000000000
-4.23333333333334
756937.265780505
2060352.23573709
