0.846666666666653
0.000000000000000
0.000000000000000
-0.84666666666664
770297.886965729
2053681.03679123
