0.423333333333326
0.000000000000000
0.000000000000000
-0.42333333333332
770297.886965729
2053681.03679123
