0.423333333333326
0.000000000000000
0.000000000000000
-0.42333333333332
759352.509870882
2052979.47074728
