0.846666666666653
0.000000000000000
0.000000000000000
-0.84666666666664
759352.509870882
2052979.47074728
