0.423333333333326
0.000000000000000
0.000000000000000
-0.42333333333332
724247.474248909
2040681.61356581
