0.423333333333326
0.000000000000000
0.000000000000000
-0.42333333333332
734406.359172322
2040041.12443083
