6.35000000000001
0.000000000000000
0.000000000000000
-6.35000000000001
736205.625609563
2075636.55732289
