12.7
0.000000000000000
0.000000000000000
-12.7
736205.625609563
2075636.55732289
