38.1
0.000000000000000
0.000000000000000
-38.1000000000001
356978.246739131
3270154.85978261
