38.0999999999999
0.000000000000000
0.000000000000000
-38.0999999999997
302844.876556063
3298354.89420221
