76.2000000000004
0.000000000000000
0.000000000000000
-76.1999999999994
272275.879365051
3349368.28886513
