19.05
0.000000000000000
0.000000000000000
-19.05
310715.99737067
3318811.93541008
