33.8666666666667
0.000000000000000
0.000000000000000
-33.8666666666666
267204.494070106
3309121.22508704
