88.9
0.000000000000000
0.000000000000000
-88.9
236337.717495656
3343316.42172586
