59.2666666666667
0.000000000000000
0.000000000000000
-59.2666666666689
244011.680227395
3369271.19563258
