8.46666666666682
0.000000000000000
0.000000000000000
-8.46666666666676
440231.102532456
5878142.23082434
