8.46666666666675
0.000000000000000
0.000000000000000
-8.46666666666676
461464.385279708
5827440.40027489
