4.23333333333334
0.000000000000000
0.000000000000000
-4.23333333333338
439566.993928008
5895271.7534463
