12.7
0.000000000000000
0.000000000000000
-12.7000000000001
439566.993928008
5895271.7534463
