2.54000000000003
0.000000000000000
0.000000000000000
-2.54000000000007
467535.808424252
5802154.99780265
