1.27
0.000000000000000
0.000000000000000
-1.27000000000001
675433.475905776
3528015.39486343
