3.81
0.000000000000000
0.000000000000000
-3.81000000000002
705454.864768085
3563179.56941419
