8.46666666666674
0.000000000000000
0.000000000000000
-8.46666666666675
676575.780114475
3596242.33280746
