16.9333333333335
0.000000000000000
0.000000000000000
-16.9333333333335
676575.780114475
3596242.33280746
