3.80999999999998
0.000000000000000
0.000000000000000
-3.80999999999996
688975.262900717
3527145.44881729
