4.23333333333333
0.000000000000
0.000000000000
-4.23333333333331
437193.310240608
5869893.48358346
