6.35
0.000000000000
0.000000000000
-6.34999999999997
353902.671440345
5652104.34471315
