2.11666666666667
0.000000000000
0.000000000000
-2.11666666666666
392815.459349336
5589228.06106901
