16.9333333333333
0.000000000000
0.000000000000
-16.9333333333333
670231.399668555
5768497.00609748
