2.11666666666667
0.000000000000
0.000000000000
-2.11666666666666
309305.908013702
5697677.50224169
