2.54
0.000000000000
0.000000000000
-2.54000000000002
689353.974947733
5759126.52455843
