2.11666666666667
0.000000000000
0.000000000000
-2.11666666666668
636147.791139679
5898219.29998013
