6.35
0.000000000000
0.000000000000
-6.35000000000004
600178.019495103
5925239.53599387
