19.05
0.000000000000
0.000000000000
-19.0500000000001
600178.019495103
5925239.53599387
