4.23333333333333
0.000000000000
0.000000000000
-4.23333333333336
619805.442192771
5903343.31449204
