22.0133333333333
0.000000000000
0.000000000000
-22.0133333333332
662416.871096528
5872862.94247337
