4.23333333333333
0.000000000000
0.000000000000
-4.23333333333331
678774.367518877
5786712.5641393
