12.7
0.000000000000
0.000000000000
-12.7000000000001
591684.632732146
5925332.8754209
